BEGIN:VCALENDAR
VERSION:2.0
PRODID:-//Sunflower® Therapeutics - ECPv6.15.20//NONSGML v1.0//EN
CALSCALE:GREGORIAN
METHOD:PUBLISH
X-WR-CALNAME:Sunflower® Therapeutics
X-ORIGINAL-URL:https://sunflowertx.com
X-WR-CALDESC:Events for Sunflower® Therapeutics
REFRESH-INTERVAL;VALUE=DURATION:PT1H
X-Robots-Tag:noindex
X-PUBLISHED-TTL:PT1H
BEGIN:VTIMEZONE
TZID:America/New_York
BEGIN:DAYLIGHT
TZOFFSETFROM:-0500
TZOFFSETTO:-0400
TZNAME:EDT
DTSTART:20240310T070000
END:DAYLIGHT
BEGIN:STANDARD
TZOFFSETFROM:-0400
TZOFFSETTO:-0500
TZNAME:EST
DTSTART:20241103T060000
END:STANDARD
BEGIN:DAYLIGHT
TZOFFSETFROM:-0500
TZOFFSETTO:-0400
TZNAME:EDT
DTSTART:20250309T070000
END:DAYLIGHT
BEGIN:STANDARD
TZOFFSETFROM:-0400
TZOFFSETTO:-0500
TZNAME:EST
DTSTART:20251102T060000
END:STANDARD
BEGIN:DAYLIGHT
TZOFFSETFROM:-0500
TZOFFSETTO:-0400
TZNAME:EDT
DTSTART:20260308T070000
END:DAYLIGHT
BEGIN:STANDARD
TZOFFSETFROM:-0400
TZOFFSETTO:-0500
TZNAME:EST
DTSTART:20261101T060000
END:STANDARD
END:VTIMEZONE
BEGIN:VEVENT
DTSTART;VALUE=DATE:20250603
DTEND;VALUE=DATE:20250606
DTSTAMP:20260424T084149
CREATED:20250512T213730Z
LAST-MODIFIED:20250512T213938Z
UID:1414-1748908800-1749167999@sunflowertx.com
SUMMARY:BioMAN Vaccines Workshop
DESCRIPTION:
URL:https://vaccinesworkshop.mit.edu/#new_tab
LOCATION:MIT Sloan School of Management\, 100 Main St\, Building E62-250\, Cambridge\, MA\, United States
ATTACH;FMTTYPE=image/png:https://sunflowertx.com/wp-content/uploads/2025/05/Screenshot-2025-05-12-at-4.39.01 PM.png
END:VEVENT
END:VCALENDAR